BEGIN:VCALENDAR
VERSION:2.0
PRODID:-//Lutheran Foundation Canada - ECPv6.15.20//NONSGML v1.0//EN
CALSCALE:GREGORIAN
METHOD:PUBLISH
X-WR-CALNAME:Lutheran Foundation Canada
X-ORIGINAL-URL:https://lutheranfoundation.ca
X-WR-CALDESC:Events for Lutheran Foundation Canada
REFRESH-INTERVAL;VALUE=DURATION:PT1H
X-Robots-Tag:noindex
X-PUBLISHED-TTL:PT1H
BEGIN:VTIMEZONE
TZID:America/Winnipeg
BEGIN:DAYLIGHT
TZOFFSETFROM:-0600
TZOFFSETTO:-0500
TZNAME:CDT
DTSTART:20250309T080000
END:DAYLIGHT
BEGIN:STANDARD
TZOFFSETFROM:-0500
TZOFFSETTO:-0600
TZNAME:CST
DTSTART:20251102T070000
END:STANDARD
BEGIN:DAYLIGHT
TZOFFSETFROM:-0600
TZOFFSETTO:-0500
TZNAME:CDT
DTSTART:20260308T080000
END:DAYLIGHT
BEGIN:STANDARD
TZOFFSETFROM:-0500
TZOFFSETTO:-0600
TZNAME:CST
DTSTART:20261101T070000
END:STANDARD
BEGIN:DAYLIGHT
TZOFFSETFROM:-0600
TZOFFSETTO:-0500
TZNAME:CDT
DTSTART:20270314T080000
END:DAYLIGHT
BEGIN:STANDARD
TZOFFSETFROM:-0500
TZOFFSETTO:-0600
TZNAME:CST
DTSTART:20271107T070000
END:STANDARD
END:VTIMEZONE
BEGIN:VTIMEZONE
TZID:America/Toronto
BEGIN:DAYLIGHT
TZOFFSETFROM:-0500
TZOFFSETTO:-0400
TZNAME:EDT
DTSTART:20250309T070000
END:DAYLIGHT
BEGIN:STANDARD
TZOFFSETFROM:-0400
TZOFFSETTO:-0500
TZNAME:EST
DTSTART:20251102T060000
END:STANDARD
BEGIN:DAYLIGHT
TZOFFSETFROM:-0500
TZOFFSETTO:-0400
TZNAME:EDT
DTSTART:20260308T070000
END:DAYLIGHT
BEGIN:STANDARD
TZOFFSETFROM:-0400
TZOFFSETTO:-0500
TZNAME:EST
DTSTART:20261101T060000
END:STANDARD
BEGIN:DAYLIGHT
TZOFFSETFROM:-0500
TZOFFSETTO:-0400
TZNAME:EDT
DTSTART:20270314T070000
END:DAYLIGHT
BEGIN:STANDARD
TZOFFSETFROM:-0400
TZOFFSETTO:-0500
TZNAME:EST
DTSTART:20271107T060000
END:STANDARD
END:VTIMEZONE
BEGIN:VEVENT
DTSTART;TZID=America/Winnipeg:20260524T110000
DTEND;TZID=America/Winnipeg:20260524T120000
DTSTAMP:20260419T150447
CREATED:20260211T211656Z
LAST-MODIFIED:20260309T202233Z
UID:1126-1779620400-1779624000@lutheranfoundation.ca
SUMMARY:Christian Stewardship & Gift Planning Presentation
DESCRIPTION:Join Matthew Honey from Lutheran Foundation Canada for an informative presentation on Christian stewardship and gift planning. This session will explore what Scripture teaches about stewarding the blessings God has entrusted to us and how thoughtful planning can care for our families while also supporting the mission of the church. \nTopics will include understanding the assets that make up an estate\, important planning considerations\, and ways individuals can support ministry through both current gifts and future gifts through their estate. \nWhether you are just beginning to think about these matters or already have plans in place\, this presentation will provide helpful insights and practical guidance. \nThe service begins at 10 am\, and the presentation will follow at 11 am.
URL:https://lutheranfoundation.ca/event/christian-stewardship-presentation-2/
LOCATION:Good Shepherd Lutheran\, Hudson Bay\, SK\, 602 Hudson Street\, Hudson Bay\, SK\, Canada
CATEGORIES:Central Region
ATTACH;FMTTYPE=image/jpeg:https://lutheranfoundation.ca/wp-content/uploads/2026/03/Good-Shepherd_Hudson-Bay_SK2.jpg
END:VEVENT
BEGIN:VEVENT
DTSTART;TZID=America/Toronto:20260607T120000
DTEND;TZID=America/Toronto:20260607T130000
DTSTAMP:20260419T150447
CREATED:20260417T163543Z
LAST-MODIFIED:20260417T163735Z
UID:1201-1780833600-1780837200@lutheranfoundation.ca
SUMMARY:Stewarding the Mission
DESCRIPTION:Join James Krestick from Lutheran Foundation Canada for an informative presentation on Christian stewardship and gift planning. This session will explore what Scripture teaches about stewarding the blessings God has entrusted to us and how thoughtful planning can care for our families while also supporting the mission of the church. \nTopics will include LCC’s Together One mission initiative\, understanding the assets that make up an estate\, important planning considerations\, and ways individuals can support ministry through both current gifts and future gifts through their estate. \nWhether you are just beginning to think about these matters or already have plans in place\, this presentation will provide helpful insights and practical guidance.
URL:https://lutheranfoundation.ca/event/stewarding-the-mission-5/
LOCATION:St. Matthew’s\, Cornwall\, ON\, 1509 Second St W\, Cornwall\, ON\, K6J 1J3\, Canada
ATTACH;FMTTYPE=image/jpeg:https://lutheranfoundation.ca/wp-content/uploads/2026/04/St-Matthew_Cornwall_ON.jpg
END:VEVENT
END:VCALENDAR