BEGIN:VCALENDAR
VERSION:2.0
PRODID:-//Lutheran Foundation Canada - ECPv6.15.20//NONSGML v1.0//EN
CALSCALE:GREGORIAN
METHOD:PUBLISH
X-WR-CALNAME:Lutheran Foundation Canada
X-ORIGINAL-URL:https://lutheranfoundation.ca
X-WR-CALDESC:Events for Lutheran Foundation Canada
REFRESH-INTERVAL;VALUE=DURATION:PT1H
X-Robots-Tag:noindex
X-PUBLISHED-TTL:PT1H
BEGIN:VTIMEZONE
TZID:America/Winnipeg
BEGIN:DAYLIGHT
TZOFFSETFROM:-0600
TZOFFSETTO:-0500
TZNAME:CDT
DTSTART:20250309T080000
END:DAYLIGHT
BEGIN:STANDARD
TZOFFSETFROM:-0500
TZOFFSETTO:-0600
TZNAME:CST
DTSTART:20251102T070000
END:STANDARD
BEGIN:DAYLIGHT
TZOFFSETFROM:-0600
TZOFFSETTO:-0500
TZNAME:CDT
DTSTART:20260308T080000
END:DAYLIGHT
BEGIN:STANDARD
TZOFFSETFROM:-0500
TZOFFSETTO:-0600
TZNAME:CST
DTSTART:20261101T070000
END:STANDARD
BEGIN:DAYLIGHT
TZOFFSETFROM:-0600
TZOFFSETTO:-0500
TZNAME:CDT
DTSTART:20270314T080000
END:DAYLIGHT
BEGIN:STANDARD
TZOFFSETFROM:-0500
TZOFFSETTO:-0600
TZNAME:CST
DTSTART:20271107T070000
END:STANDARD
END:VTIMEZONE
BEGIN:VTIMEZONE
TZID:America/Toronto
BEGIN:DAYLIGHT
TZOFFSETFROM:-0500
TZOFFSETTO:-0400
TZNAME:EDT
DTSTART:20250309T070000
END:DAYLIGHT
BEGIN:STANDARD
TZOFFSETFROM:-0400
TZOFFSETTO:-0500
TZNAME:EST
DTSTART:20251102T060000
END:STANDARD
BEGIN:DAYLIGHT
TZOFFSETFROM:-0500
TZOFFSETTO:-0400
TZNAME:EDT
DTSTART:20260308T070000
END:DAYLIGHT
BEGIN:STANDARD
TZOFFSETFROM:-0400
TZOFFSETTO:-0500
TZNAME:EST
DTSTART:20261101T060000
END:STANDARD
BEGIN:DAYLIGHT
TZOFFSETFROM:-0500
TZOFFSETTO:-0400
TZNAME:EDT
DTSTART:20270314T070000
END:DAYLIGHT
BEGIN:STANDARD
TZOFFSETFROM:-0400
TZOFFSETTO:-0500
TZNAME:EST
DTSTART:20271107T060000
END:STANDARD
END:VTIMEZONE
BEGIN:VEVENT
DTSTART;TZID=America/Winnipeg:20260524T110000
DTEND;TZID=America/Winnipeg:20260524T120000
DTSTAMP:20260419T160606
CREATED:20260211T211656Z
LAST-MODIFIED:20260309T202233Z
UID:1126-1779620400-1779624000@lutheranfoundation.ca
SUMMARY:Christian Stewardship & Gift Planning Presentation
DESCRIPTION:Join Matthew Honey from Lutheran Foundation Canada for an informative presentation on Christian stewardship and gift planning. This session will explore what Scripture teaches about stewarding the blessings God has entrusted to us and how thoughtful planning can care for our families while also supporting the mission of the church. \nTopics will include understanding the assets that make up an estate\, important planning considerations\, and ways individuals can support ministry through both current gifts and future gifts through their estate. \nWhether you are just beginning to think about these matters or already have plans in place\, this presentation will provide helpful insights and practical guidance. \nThe service begins at 10 am\, and the presentation will follow at 11 am.
URL:https://lutheranfoundation.ca/event/christian-stewardship-presentation-2/
LOCATION:Good Shepherd Lutheran\, Hudson Bay\, SK\, 602 Hudson Street\, Hudson Bay\, SK\, Canada
CATEGORIES:Central Region
ATTACH;FMTTYPE=image/jpeg:https://lutheranfoundation.ca/wp-content/uploads/2026/03/Good-Shepherd_Hudson-Bay_SK2.jpg
END:VEVENT
BEGIN:VEVENT
DTSTART;TZID=America/Toronto:20260426T120000
DTEND;TZID=America/Toronto:20260426T130000
DTSTAMP:20260419T160606
CREATED:20260309T200911Z
LAST-MODIFIED:20260309T202655Z
UID:1142-1777204800-1777208400@lutheranfoundation.ca
SUMMARY:Christian Stewardship & Gift Planning Presentation
DESCRIPTION:Join Matthew Honey from Lutheran Foundation Canada for an informative presentation on Christian Stewardship and Gift Planning. This session will explore what Scripture teaches about stewarding the blessings God has entrusted to us and how thoughtful planning can care for our families while also supporting the mission of the church. \nTopics will include understanding the assets that make up an estate\, important planning considerations\, and ways individuals can support ministry through both current gifts and future gifts through their estate. \nWhether you are just beginning to think about these matters or already have plans in place\, this presentation will provide helpful insights and practical guidance.
URL:https://lutheranfoundation.ca/event/christian-stewardship-gift-planning-presentation/
LOCATION:Calvary Lutheran\, Thunder Bay\, 2820 Donald St E.\, Thunder Bay\, Ontario\, P7E 2G6\, Canada
CATEGORIES:Central Region
ATTACH;FMTTYPE=image/jpeg:https://lutheranfoundation.ca/wp-content/uploads/2026/03/Calvary_Thunder-Bay.jpg
END:VEVENT
BEGIN:VEVENT
DTSTART;TZID=America/Toronto:20260425T113000
DTEND;TZID=America/Toronto:20260425T123000
DTSTAMP:20260419T160606
CREATED:20260323T200847Z
LAST-MODIFIED:20260323T200847Z
UID:1190-1777116600-1777120200@lutheranfoundation.ca
SUMMARY:Stewarding the Mission
DESCRIPTION:Join James Krestick from Lutheran Foundation Canada for an informative presentation on Christian stewardship and gift planning. This session will explore what Scripture teaches about stewarding the blessings God has entrusted to us and how thoughtful planning can care for our families while also supporting the mission of the church. \nTopics will include understanding the assets that make up an estate\, important planning considerations\, and ways individuals can support ministry through both current gifts and future gifts through their estate. \nWhether you are just beginning to think about these matters or already have plans in place\, this presentation will provide helpful insights and practical guidance.
URL:https://lutheranfoundation.ca/event/stewarding-the-mission-4/
LOCATION:Immanuel Lutheran\, Georgetown\, ON\, 89 Mountainview Road South\, Halton Hills\, ON\, L7G 4T9\, Canada
CATEGORIES:East Region
ATTACH;FMTTYPE=image/jpeg:https://lutheranfoundation.ca/wp-content/uploads/2026/03/Default_Venue_Image.jpg
END:VEVENT
BEGIN:VEVENT
DTSTART;TZID=America/Toronto:20260419T123000
DTEND;TZID=America/Toronto:20260419T133000
DTSTAMP:20260419T160606
CREATED:20260312T153915Z
LAST-MODIFIED:20260312T153915Z
UID:1157-1776601800-1776605400@lutheranfoundation.ca
SUMMARY:Stewarding the Mission
DESCRIPTION:Join James Krestick from Lutheran Foundation Canada for an informative presentation on Christian stewardship and gift planning. This session will explore what Scripture teaches about stewarding the blessings God has entrusted to us and how thoughtful planning can care for our families while also supporting the mission of the church. \nTopics will include understanding the assets that make up an estate\, important planning considerations\, and ways individuals can support ministry through both current gifts and future gifts through their estate. \nWhether you are just beginning to think about these matters or already have plans in place\, this presentation will provide helpful insights and practical guidance.
URL:https://lutheranfoundation.ca/event/stewarding-the-mission-3/
LOCATION:Bethel Evangelical Lutheran\, Kitchener\, ON\, 47 Sheldon Ave N.\, Kitchener\, Ontario\, N2H 3M1\, Canada
CATEGORIES:East Region
ATTACH;FMTTYPE=image/jpeg:https://lutheranfoundation.ca/wp-content/uploads/2026/03/Bethel_Kithchener_ON.jpg
END:VEVENT
BEGIN:VEVENT
DTSTART;TZID=America/Winnipeg:20260419T023000
DTEND;TZID=America/Winnipeg:20260419T033000
DTSTAMP:20260419T160606
CREATED:20260113T174858Z
LAST-MODIFIED:20260309T202418Z
UID:946-1776565800-1776569400@lutheranfoundation.ca
SUMMARY:Christian Stewardship Presentation – Tentative
DESCRIPTION:Join Matthew Honey from Lutheran Foundation Canada for an informative presentation on Christian stewardship and gift planning. This session will explore what Scripture teaches about stewarding the blessings God has entrusted to us and how thoughtful planning can care for our families while also supporting the mission of the church. \nTopics will include understanding the assets that make up an estate\, important planning considerations\, and ways individuals can support ministry through both current gifts and future gifts through their estate. \nWhether you are just beginning to think about these matters or already have plans in place\, this presentation will provide helpful insights and practical guidance. \nThe service begins at 1:30 pm\, and the presentation will follow at 2:30 pm. \n 
URL:https://lutheranfoundation.ca/event/christian-stewardship-presentation-tentative/
LOCATION:St . Paul’s Lutheran Church\, 115 Bemister Ave\, Melfort\, SK\, Canada
CATEGORIES:Central Region
ATTACH;FMTTYPE=image/jpeg:https://lutheranfoundation.ca/wp-content/uploads/2026/03/St_Paul_Melfort_SK2.jpg
END:VEVENT
BEGIN:VEVENT
DTSTART;TZID=America/Toronto:20260308T123000
DTEND;TZID=America/Toronto:20260308T133000
DTSTAMP:20260419T160606
CREATED:20260127T192352Z
LAST-MODIFIED:20260127T192651Z
UID:1015-1772973000-1772976600@lutheranfoundation.ca
SUMMARY:Stewarding the Mission
DESCRIPTION:Come join us and learn about Stewarding the gifts that God has blessed you with.
URL:https://lutheranfoundation.ca/event/stewarding-the-mission-2/
LOCATION:Trinity – Kurtzville\, ON\, 6784 Perth Line 88\, Gowanstown\, ON\, Canada
CATEGORIES:East Region
ATTACH;FMTTYPE=image/jpeg:https://lutheranfoundation.ca/wp-content/uploads/2026/01/Trinity_Kurtzville_ON.jpg
END:VEVENT
BEGIN:VEVENT
DTSTART;TZID=America/Winnipeg:20260301T023000
DTEND;TZID=America/Winnipeg:20260301T033000
DTSTAMP:20260419T160606
CREATED:20260113T170442Z
LAST-MODIFIED:20260211T205955Z
UID:934-1772332200-1772335800@lutheranfoundation.ca
SUMMARY:Christian Stewardship Presentation
DESCRIPTION:Zion Lutheran Church\, Nipawin\, SK – Come and enjoy an afternoon learning about Christian Stewardship after the service. The service begins at 1:30 pm\, and the presentation will follow at 2:30 pm.
URL:https://lutheranfoundation.ca/event/christian-stewardship-presentation/
LOCATION:Zion Lutheran Church\, 315 Center Street\, Nipawin\, SK\, Canada
CATEGORIES:Central Region
ATTACH;FMTTYPE=image/png:https://lutheranfoundation.ca/wp-content/uploads/2026/01/Zion_Nipawin_SK.png
END:VEVENT
BEGIN:VEVENT
DTSTART;TZID=America/Toronto:20260208T120000
DTEND;TZID=America/Toronto:20260208T130000
DTSTAMP:20260419T160606
CREATED:20260116T172623Z
LAST-MODIFIED:20260127T194657Z
UID:1007-1770552000-1770555600@lutheranfoundation.ca
SUMMARY:Stewarding the Mission
DESCRIPTION:Come join us and learn about Stewarding the gifts that God has blessed you with.
URL:https://lutheranfoundation.ca/event/stewarding-the-mission/
LOCATION:Grace – Oshawa\, 540 Cromwell Ave\, Ottawa\, Canada
CATEGORIES:East Region
ATTACH;FMTTYPE=image/webp:https://lutheranfoundation.ca/wp-content/uploads/2026/01/Grace-Oshawa.webp
END:VEVENT
END:VCALENDAR